BEGIN:VCALENDAR
VERSION:2.0
PRODID:-//Northern California PGA - ECPv6.6.4.2//NONSGML v1.0//EN
CALSCALE:GREGORIAN
METHOD:PUBLISH
X-WR-CALNAME:Northern California PGA
X-ORIGINAL-URL:https://dev-ncpgalinks.globenetix.com
X-WR-CALDESC:Events for Northern California PGA
REFRESH-INTERVAL;VALUE=DURATION:PT1H
X-Robots-Tag:noindex
X-PUBLISHED-TTL:PT1H
BEGIN:VTIMEZONE
TZID:UTC
BEGIN:STANDARD
TZOFFSETFROM:+0000
TZOFFSETTO:+0000
TZNAME:UTC
DTSTART:20230101T000000
END:STANDARD
END:VTIMEZONE
BEGIN:VEVENT
DTSTART;VALUE=DATE:20230403
DTEND;VALUE=DATE:20230406
DTSTAMP:20260424T113027
CREATED:20221213T214245Z
LAST-MODIFIED:20230223T185554Z
UID:10000853-1680480000-1680739199@dev-ncpgalinks.globenetix.com
SUMMARY:NCPGA 2023 Match Play
DESCRIPTION:
URL:https://dev-ncpgalinks.globenetix.com/event/ncpga-2023-match-play/
CATEGORIES:Section
END:VEVENT
END:VCALENDAR