BEGIN:VCALENDAR
VERSION:2.0
PRODID:-//Northern California PGA - ECPv6.6.4.2//NONSGML v1.0//EN
CALSCALE:GREGORIAN
METHOD:PUBLISH
X-WR-CALNAME:Northern California PGA
X-ORIGINAL-URL:https://dev-ncpgalinks.globenetix.com
X-WR-CALDESC:Events for Northern California PGA
REFRESH-INTERVAL;VALUE=DURATION:PT1H
X-Robots-Tag:noindex
X-PUBLISHED-TTL:PT1H
BEGIN:VTIMEZONE
TZID:UTC
BEGIN:STANDARD
TZOFFSETFROM:+0000
TZOFFSETTO:+0000
TZNAME:UTC
DTSTART:20220101T000000
END:STANDARD
END:VTIMEZONE
BEGIN:VEVENT
DTSTART;VALUE=DATE:20220912
DTEND;VALUE=DATE:20220913
DTSTAMP:20260424T142811
CREATED:20220111T180203Z
LAST-MODIFIED:20220111T180203Z
UID:10000802-1662940800-1663027199@dev-ncpgalinks.globenetix.com
SUMMARY:Fortinet Championship Open Qualifier
DESCRIPTION:
URL:https://dev-ncpgalinks.globenetix.com/event/fortinet-championship-open-qualifier/
LOCATION:El Macero CC
CATEGORIES:Open Events,Section
END:VEVENT
END:VCALENDAR